BEGIN:VCALENDAR
PRODID:-//eluceo/ical//2.0/EN
VERSION:2.0
CALSCALE:GREGORIAN
BEGIN:VEVENT
UID:event-1319
DTSTAMP:20260425T234031Z
SUMMARY:CuCo Dansworkshop
DESCRIPTION:Lieve leden\, De CuCo organiseert ook dit jaar weer een vrije a
 ctiviteit. Dit jaar is het een dansworkshop!💃💃We zullen op donderdag
  14 november met z’n allen een Braziliaanse salsa gaan leren. Dus heb ji
 j zin in het leren van nieuwe dans moves of een avond plezier met je vrien
 den? Koop dan je kaartje en shine met ons mee op de dansvloer🕺✨🪩 L
 iefs\, CuCo 📅 Datum: 14 november 🕒 Tijd: 18:00 - 19:30 📍 Locatie:
  Bessemoerstraat 4 ** Dear members\, This year\, CuCo organizes another op
 en activity. This year\, it’s a dance workshop! 💃💃Thursday\, Novem
 ber 14th we will be learning a Brazilian Salsa together. So are you excite
 d to learn some new dance moves\, or looking forward to an evening of exci
 tement with your friends…? Don’t hesitate and buy a ticket to come shi
 ne with us on the dance floor 🕺🪩✨ Love\, CuCo  📅 Date: Novembe
 r 14th 🕒 Time: 18:00 - 19:30 📍 Location: Bessemoerstraat 4
DTSTART:20241114T170000Z
DTEND:20241114T183000Z
END:VEVENT
BEGIN:VTIMEZONE
TZID:UTC
BEGIN:STANDARD
DTSTART:20241114T170000
TZNAME:UTC
TZOFFSETTO:+0000
TZOFFSETFROM:+0000
END:STANDARD
END:VTIMEZONE
END:VCALENDAR
