BEGIN:VCALENDAR
PRODID:-//eluceo/ical//2.0/EN
VERSION:2.0
CALSCALE:GREGORIAN
BEGIN:VEVENT
UID:event-1306
DTSTAMP:20260422T084313Z
SUMMARY:PanIC Zomerfeest
DESCRIPTION:Kom de zomer afsluiten met PanIC! Maandag 23 september vindt h
 et Zomerfeest plaats met het thema ‘Your own Roman Empire’. Wat houdt 
 jou wakker ‘s nachts? Breng dit tot leven! De eerste shotjes zijn 1\,50
 € bij het Pakhuis! —------------------------------------ Come close ou
 t the summer with PanIC! Monday September 23th\, the summer party will tak
 e place with the: ‘Your own Roman Empire’. What keeps you up at night?
  Bring this to live! the first shots are 1\,50€ at the Pakhuis!
DTSTART:20240923T200000Z
DTEND:20240924T010000Z
END:VEVENT
BEGIN:VTIMEZONE
TZID:UTC
BEGIN:STANDARD
DTSTART:20240923T200000
TZNAME:UTC
TZOFFSETTO:+0000
TZOFFSETFROM:+0000
END:STANDARD
END:VTIMEZONE
END:VCALENDAR
